Package: GeDi Version: 1.0.1 Command: /home/biocbuild/bbs-3.19-bioc/R/bin/R CMD check --install=check:GeDi.install-out.txt --library=/home/biocbuild/bbs-3.19-bioc/R/site-library --timings GeDi_1.0.1.tar.gz StartedAt: 2024-10-17 00:39:32 -0400 (Thu, 17 Oct 2024) EndedAt: 2024-10-17 00:54:31 -0400 (Thu, 17 Oct 2024) EllapsedTime: 898.9 seconds RetCode: 0 Status: OK CheckDir: GeDi.Rcheck Warnings: 0