Package: GeDi Version: 1.0.1 Command: rm -rf GeDi.buildbin-libdir && mkdir GeDi.buildbin-libdir && F:\biocbuild\bbs-3.19-bioc\R\bin\R.exe CMD INSTALL --build --library=GeDi.buildbin-libdir GeDi_1.0.1.tar.gz StartedAt: 2024-06-27 08:15:06 -0400 (Thu, 27 Jun 2024) EndedAt: 2024-06-27 08:16:03 -0400 (Thu, 27 Jun 2024) EllapsedTime: 57.8 seconds RetCode: 0 Status: OK PackageFile: GeDi_1.0.1.zip PackageFileSize: 2.757 MiB