Package: GeDi Version: 1.0.1 Command: F:\biocbuild\bbs-3.19-bioc\R\bin\R.exe CMD INSTALL GeDi StartedAt: 2024-06-26 16:27:11 -0400 (Wed, 26 Jun 2024) EndedAt: 2024-06-26 16:28:03 -0400 (Wed, 26 Jun 2024) EllapsedTime: 52.9 seconds RetCode: 0 Status: OK