Package: GeDi Version: 1.0.1 Command: chmod a+r GeDi -R && E:\biocbuild\bbs-3.19-bioc\R\bin\R.exe CMD build --keep-empty-dirs --no-resave-data GeDi StartedAt: 2024-10-16 19:20:19 -0400 (Wed, 16 Oct 2024) EndedAt: 2024-10-16 19:23:18 -0400 (Wed, 16 Oct 2024) EllapsedTime: 179.4 seconds RetCode: 0 Status: OK PackageFile: GeDi_1.0.1.tar.gz PackageFileSize: 3.405 MiB