Package: GeDi Version: 1.0.1 Command: E:\biocbuild\bbs-3.19-bioc\R\bin\R.exe CMD check --no-multiarch --install=check:GeDi.install-out.txt --library=E:\biocbuild\bbs-3.19-bioc\R\library --no-vignettes --timings GeDi_1.0.1.tar.gz StartedAt: 2024-10-17 01:42:08 -0400 (Thu, 17 Oct 2024) EndedAt: 2024-10-17 01:54:40 -0400 (Thu, 17 Oct 2024) EllapsedTime: 752.0 seconds RetCode: 0 Status: OK CheckDir: GeDi.Rcheck Warnings: 0