Package: GenProSeq Version: 1.8.0 Command: rm -rf GenProSeq.buildbin-libdir && mkdir GenProSeq.buildbin-libdir && /Users/biocbuild/BBS/utils/build-universal.sh GenProSeq_1.8.0.tar.gz /Library/Frameworks/R.framework/Resources/bin/R GenProSeq.buildbin-libdir StartedAt: 2024-06-10 00:19:57 -0400 (Mon, 10 Jun 2024) EndedAt: 2024-06-10 00:20:15 -0400 (Mon, 10 Jun 2024) EllapsedTime: 18.0 seconds RetCode: 0 Status: OK PackageFile: GenProSeq_1.8.0.tgz PackageFileSize: 1.664 MiB