Package: GenProSeq Version: 1.8.0 Command: /Library/Frameworks/R.framework/Resources/bin/R CMD check --install=check:GenProSeq.install-out.txt --library=/Library/Frameworks/R.framework/Resources/library --no-vignettes --timings GenProSeq_1.8.0.tar.gz StartedAt: 2024-06-09 20:35:35 -0400 (Sun, 09 Jun 2024) EndedAt: 2024-06-09 20:39:43 -0400 (Sun, 09 Jun 2024) EllapsedTime: 247.4 seconds RetCode: 0 Status: OK CheckDir: GenProSeq.Rcheck Warnings: 0