Package: GenProSeq Version: 1.8.0 Command: /home/biocbuild/bbs-3.19-bioc/R/bin/R CMD build --keep-empty-dirs --no-resave-data GenProSeq StartedAt: 2024-10-16 18:40:37 -0400 (Wed, 16 Oct 2024) EndedAt: 2024-10-16 18:42:25 -0400 (Wed, 16 Oct 2024) EllapsedTime: 108.2 seconds RetCode: 0 Status: OK PackageFile: GenProSeq_1.8.0.tar.gz PackageFileSize: 1.831 MiB