Package: GenProSeq Version: 1.8.0 Command: chmod a+r GenProSeq -R && F:\biocbuild\bbs-3.19-bioc\R\bin\R.exe --arch x64 CMD build --keep-empty-dirs --no-resave-data GenProSeq StartedAt: 2024-06-26 19:08:50 -0400 (Wed, 26 Jun 2024) EndedAt: 2024-06-26 19:11:55 -0400 (Wed, 26 Jun 2024) EllapsedTime: 185.0 seconds RetCode: 0 Status: OK PackageFile: GenProSeq_1.8.0.tar.gz PackageFileSize: 1.766 MiB