Package: GenVisR Version: 1.36.0 Command: /home/biocbuild/R/R-beta-2024-04-15_r86425/bin/R CMD build --keep-empty-dirs --no-resave-data GenVisR StartedAt: 2024-05-09 00:32:15 -0000 (Thu, 09 May 2024) EndedAt: 2024-05-09 00:35:52 -0000 (Thu, 09 May 2024) EllapsedTime: 217.3 seconds RetCode: 0 Status: OK PackageFile: GenVisR_1.36.0.tar.gz PackageFileSize: 3.749 MiB