Package: GenVisR Version: 1.36.0 Command: /Library/Frameworks/R.framework/Resources/bin/R CMD build --keep-empty-dirs --no-resave-data GenVisR StartedAt: 2024-06-09 16:47:02 -0400 (Sun, 09 Jun 2024) EndedAt: 2024-06-09 16:49:50 -0400 (Sun, 09 Jun 2024) EllapsedTime: 168.5 seconds RetCode: 0 Status: OK PackageFile: GenVisR_1.36.0.tar.gz PackageFileSize: 5.047 MiB