Package: GenVisR Version: 1.36.0 Command: /home/biocbuild/bbs-3.19-bioc/R/bin/R CMD build --keep-empty-dirs --no-resave-data GenVisR StartedAt: 2024-10-16 18:40:37 -0400 (Wed, 16 Oct 2024) EndedAt: 2024-10-16 18:43:19 -0400 (Wed, 16 Oct 2024) EllapsedTime: 162.3 seconds RetCode: 0 Status: OK PackageFile: GenVisR_1.36.0.tar.gz PackageFileSize: 4.568 MiB