Package: GenVisR Version: 1.36.0 Command: rm -rf GenVisR.buildbin-libdir && mkdir GenVisR.buildbin-libdir && E:\biocbuild\bbs-3.19-bioc\R\bin\R.exe CMD INSTALL --build --library=GenVisR.buildbin-libdir GenVisR_1.36.0.tar.gz StartedAt: 2024-10-17 07:52:13 -0400 (Thu, 17 Oct 2024) EndedAt: 2024-10-17 07:53:58 -0400 (Thu, 17 Oct 2024) EllapsedTime: 105.0 seconds RetCode: 0 Status: OK PackageFile: GenVisR_1.36.0.zip PackageFileSize: 2.45 MiB