Package: GenVisR Version: 1.36.0 Command: chmod a+r GenVisR -R && E:\biocbuild\bbs-3.19-bioc\R\bin\R.exe CMD build --keep-empty-dirs --no-resave-data GenVisR StartedAt: 2024-10-16 19:24:42 -0400 (Wed, 16 Oct 2024) EndedAt: 2024-10-16 19:29:56 -0400 (Wed, 16 Oct 2024) EllapsedTime: 314.4 seconds RetCode: 0 Status: OK PackageFile: GenVisR_1.36.0.tar.gz PackageFileSize: 3.425 MiB