Package: GeneExpressionSignature Version: 1.50.0 Command: /Library/Frameworks/R.framework/Resources/bin/R CMD build --keep-empty-dirs --no-resave-data GeneExpressionSignature StartedAt: 2024-10-16 19:26:53 -0400 (Wed, 16 Oct 2024) EndedAt: 2024-10-16 19:27:35 -0400 (Wed, 16 Oct 2024) EllapsedTime: 42.9 seconds RetCode: 0 Status: OK PackageFile: GeneExpressionSignature_1.50.0.tar.gz PackageFileSize: 2.544 MiB