Package: GeneGA Version: 1.54.0 Command: rm -rf GeneGA.buildbin-libdir && mkdir GeneGA.buildbin-libdir && /Users/biocbuild/BBS/utils/build-universal.sh GeneGA_1.54.0.tar.gz /Library/Frameworks/R.framework/Resources/bin/R GeneGA.buildbin-libdir StartedAt: 2024-10-18 18:37:50 -0400 (Fri, 18 Oct 2024) EndedAt: 2024-10-18 18:37:57 -0400 (Fri, 18 Oct 2024) EllapsedTime: 6.9 seconds RetCode: 0 Status: OK PackageFile: GeneGA_1.54.0.tgz PackageFileSize: 397.2 KiB