Package: GeneGA Version: 1.54.0 Command: /Library/Frameworks/R.framework/Resources/bin/R CMD check --install=check:GeneGA.install-out.txt --library=/Library/Frameworks/R.framework/Resources/library --no-vignettes --timings GeneGA_1.54.0.tar.gz StartedAt: 2024-10-17 22:33:40 -0400 (Thu, 17 Oct 2024) EndedAt: 2024-10-17 22:37:53 -0400 (Thu, 17 Oct 2024) EllapsedTime: 253.0 seconds RetCode: 0 Status: OK CheckDir: GeneGA.Rcheck Warnings: 0