Package: GeneGA Version: 1.54.0 Command: /Library/Frameworks/R.framework/Resources/bin/R CMD build --keep-empty-dirs --no-resave-data GeneGA StartedAt: 2024-06-09 16:44:36 -0400 (Sun, 09 Jun 2024) EndedAt: 2024-06-09 16:47:25 -0400 (Sun, 09 Jun 2024) EllapsedTime: 168.6 seconds RetCode: 0 Status: OK PackageFile: GeneGA_1.54.0.tar.gz PackageFileSize: 228 KiB