Package: GeneGA Version: 1.54.0 Command: /home/biocbuild/bbs-3.19-bioc/R/bin/R CMD build --keep-empty-dirs --no-resave-data GeneGA StartedAt: 2024-10-16 18:37:31 -0400 (Wed, 16 Oct 2024) EndedAt: 2024-10-16 18:38:30 -0400 (Wed, 16 Oct 2024) EllapsedTime: 59.1 seconds RetCode: 0 Status: OK PackageFile: GeneGA_1.54.0.tar.gz PackageFileSize: 228.1 KiB