Package: GeneGA Version: 1.54.0 Command: /home/biocbuild/bbs-3.19-bioc/R/bin/R CMD check --install=check:GeneGA.install-out.txt --library=/home/biocbuild/bbs-3.19-bioc/R/site-library --timings GeneGA_1.54.0.tar.gz StartedAt: 2024-10-17 00:41:36 -0400 (Thu, 17 Oct 2024) EndedAt: 2024-10-17 00:44:00 -0400 (Thu, 17 Oct 2024) EllapsedTime: 144.3 seconds RetCode: 0 Status: OK CheckDir: GeneGA.Rcheck Warnings: 0