Package: GeneMeta Version: 1.76.0 Command: /Library/Frameworks/R.framework/Resources/bin/R CMD build --keep-empty-dirs --no-resave-data GeneMeta StartedAt: 2024-10-17 01:00:09 -0400 (Thu, 17 Oct 2024) EndedAt: 2024-10-17 01:00:50 -0400 (Thu, 17 Oct 2024) EllapsedTime: 40.2 seconds RetCode: 0 Status: OK PackageFile: GeneMeta_1.76.0.tar.gz PackageFileSize: 2.704 MiB