Package: GeneMeta Version: 1.76.0 Command: /home/biocbuild/R/R-beta-2024-04-15_r86425/bin/R CMD build --keep-empty-dirs --no-resave-data GeneMeta StartedAt: 2024-05-09 00:27:59 -0000 (Thu, 09 May 2024) EndedAt: 2024-05-09 00:28:44 -0000 (Thu, 09 May 2024) EllapsedTime: 45.1 seconds RetCode: 0 Status: OK PackageFile: GeneMeta_1.76.0.tar.gz PackageFileSize: 2.695 MiB