Package: GeneMeta Version: 1.76.0 Command: /home/biocbuild/R/R-beta-2024-04-15_r86425/bin/R CMD INSTALL GeneMeta StartedAt: 2024-05-08 20:54:37 -0000 (Wed, 08 May 2024) EndedAt: 2024-05-08 20:54:59 -0000 (Wed, 08 May 2024) EllapsedTime: 22.5 seconds RetCode: 0 Status: OK