Package: GeneMeta Version: 1.76.0 Command: E:\biocbuild\bbs-3.19-bioc\R\bin\R.exe CMD INSTALL GeneMeta StartedAt: 2024-10-16 17:06:29 -0400 (Wed, 16 Oct 2024) EndedAt: 2024-10-16 17:06:52 -0400 (Wed, 16 Oct 2024) EllapsedTime: 23.2 seconds RetCode: 0 Status: OK