Package: GeneOverlap Version: 1.40.0 Command: /Library/Frameworks/R.framework/Resources/bin/R CMD build --keep-empty-dirs --no-resave-data GeneOverlap StartedAt: 2024-10-17 01:00:50 -0400 (Thu, 17 Oct 2024) EndedAt: 2024-10-17 01:01:04 -0400 (Thu, 17 Oct 2024) EllapsedTime: 14.5 seconds RetCode: 0 Status: OK PackageFile: GeneOverlap_1.40.0.tar.gz PackageFileSize: 360.8 KiB