Package: GeneOverlap Version: 1.40.0 Command: /Library/Frameworks/R.framework/Resources/bin/R CMD INSTALL GeneOverlap StartedAt: 2024-06-09 15:05:56 -0400 (Sun, 09 Jun 2024) EndedAt: 2024-06-09 15:06:01 -0400 (Sun, 09 Jun 2024) EllapsedTime: 4.9 seconds RetCode: 0 Status: OK