Package: GeneOverlap Version: 1.40.0 Command: /Library/Frameworks/R.framework/Resources/bin/R CMD build --keep-empty-dirs --no-resave-data GeneOverlap StartedAt: 2024-06-09 16:44:48 -0400 (Sun, 09 Jun 2024) EndedAt: 2024-06-09 16:45:01 -0400 (Sun, 09 Jun 2024) EllapsedTime: 13.5 seconds RetCode: 0 Status: OK PackageFile: GeneOverlap_1.40.0.tar.gz PackageFileSize: 360.4 KiB