Package: GeneOverlap Version: 1.40.0 Command: /Library/Frameworks/R.framework/Resources/bin/R CMD check --install=check:GeneOverlap.install-out.txt --library=/Library/Frameworks/R.framework/Resources/library --no-vignettes --timings GeneOverlap_1.40.0.tar.gz StartedAt: 2024-06-09 20:32:15 -0400 (Sun, 09 Jun 2024) EndedAt: 2024-06-09 20:32:50 -0400 (Sun, 09 Jun 2024) EllapsedTime: 34.9 seconds RetCode: 0 Status: OK CheckDir: GeneOverlap.Rcheck Warnings: 0