Package: GeneOverlap Version: 1.40.0 Command: /Library/Frameworks/R.framework/Resources/bin/R CMD build --keep-empty-dirs --no-resave-data GeneOverlap StartedAt: 2024-10-16 19:27:35 -0400 (Wed, 16 Oct 2024) EndedAt: 2024-10-16 19:28:01 -0400 (Wed, 16 Oct 2024) EllapsedTime: 25.1 seconds RetCode: 0 Status: OK PackageFile: GeneOverlap_1.40.0.tar.gz PackageFileSize: 360.8 KiB