Package: GeneOverlap Version: 1.40.0 Command: /Library/Frameworks/R.framework/Resources/bin/R CMD check --install=check:GeneOverlap.install-out.txt --library=/Library/Frameworks/R.framework/Resources/library --no-vignettes --timings GeneOverlap_1.40.0.tar.gz StartedAt: 2024-10-17 05:44:14 -0400 (Thu, 17 Oct 2024) EndedAt: 2024-10-17 05:45:06 -0400 (Thu, 17 Oct 2024) EllapsedTime: 52.5 seconds RetCode: 0 Status: OK CheckDir: GeneOverlap.Rcheck Warnings: 0