Package: GeneOverlap Version: 1.40.0 Command: /home/biocbuild/bbs-3.19-bioc/R/bin/R CMD build --keep-empty-dirs --no-resave-data GeneOverlap StartedAt: 2024-10-16 18:37:52 -0400 (Wed, 16 Oct 2024) EndedAt: 2024-10-16 18:38:00 -0400 (Wed, 16 Oct 2024) EllapsedTime: 8.0 seconds RetCode: 0 Status: OK PackageFile: GeneOverlap_1.40.0.tar.gz PackageFileSize: 361.1 KiB