Package: GeneOverlap Version: 1.40.0 Command: /home/biocbuild/bbs-3.19-bioc/R/bin/R CMD INSTALL GeneOverlap StartedAt: 2024-10-16 15:51:01 -0400 (Wed, 16 Oct 2024) EndedAt: 2024-10-16 15:51:12 -0400 (Wed, 16 Oct 2024) EllapsedTime: 11.4 seconds RetCode: 0 Status: OK