Package: GeneOverlap Version: 1.40.0 Command: chmod a+r GeneOverlap -R && F:\biocbuild\bbs-3.19-bioc\R\bin\R.exe CMD build --keep-empty-dirs --no-resave-data GeneOverlap StartedAt: 2024-06-26 19:05:40 -0400 (Wed, 26 Jun 2024) EndedAt: 2024-06-26 19:05:58 -0400 (Wed, 26 Jun 2024) EllapsedTime: 18.5 seconds RetCode: 0 Status: OK PackageFile: GeneOverlap_1.40.0.tar.gz PackageFileSize: 361.2 KiB