Package: GeneOverlap Version: 1.40.0 Command: rm -rf GeneOverlap.buildbin-libdir && mkdir GeneOverlap.buildbin-libdir && E:\biocbuild\bbs-3.19-bioc\R\bin\R.exe CMD INSTALL --build --library=GeneOverlap.buildbin-libdir GeneOverlap_1.40.0.tar.gz StartedAt: 2024-10-17 07:50:38 -0400 (Thu, 17 Oct 2024) EndedAt: 2024-10-17 07:51:07 -0400 (Thu, 17 Oct 2024) EllapsedTime: 28.3 seconds RetCode: 0 Status: OK PackageFile: GeneOverlap_1.40.0.zip PackageFileSize: 540.2 KiB