Package: GeneTonic Version: 2.8.0 Command: rm -rf GeneTonic.buildbin-libdir && mkdir GeneTonic.buildbin-libdir && /Users/biocbuild/BBS/utils/build-universal.sh GeneTonic_2.8.0.tar.gz /Library/Frameworks/R.framework/Resources/bin/R GeneTonic.buildbin-libdir StartedAt: 2024-06-11 11:22:08 -0400 (Tue, 11 Jun 2024) EndedAt: 2024-06-11 11:23:17 -0400 (Tue, 11 Jun 2024) EllapsedTime: 68.4 seconds RetCode: 0 Status: OK PackageFile: GeneTonic_2.8.0.tgz PackageFileSize: 9.871 MiB