Package: GeneTonic Version: 2.8.0 Command: rm -rf GeneTonic.buildbin-libdir && mkdir GeneTonic.buildbin-libdir && /Users/biocbuild/BBS/utils/build-universal.sh GeneTonic_2.8.0.tar.gz /Library/Frameworks/R.framework/Resources/bin/R GeneTonic.buildbin-libdir StartedAt: 2024-10-17 16:14:08 -0400 (Thu, 17 Oct 2024) EndedAt: 2024-10-17 16:15:42 -0400 (Thu, 17 Oct 2024) EllapsedTime: 93.3 seconds RetCode: 0 Status: OK PackageFile: GeneTonic_2.8.0.tgz PackageFileSize: 9.88 MiB