Package: GeneTonic Version: 2.8.0 Command: /Library/Frameworks/R.framework/Resources/bin/R CMD build --keep-empty-dirs --no-resave-data GeneTonic StartedAt: 2024-10-16 19:28:53 -0400 (Wed, 16 Oct 2024) EndedAt: 2024-10-16 19:32:45 -0400 (Wed, 16 Oct 2024) EllapsedTime: 231.8 seconds RetCode: 0 Status: OK PackageFile: GeneTonic_2.8.0.tar.gz PackageFileSize: 9.77 MiB