Package: GeneTonic Version: 2.8.0 Command: chmod a+r GeneTonic -R && E:\biocbuild\bbs-3.19-bioc\R\bin\R.exe CMD build --keep-empty-dirs --no-resave-data GeneTonic StartedAt: 2024-10-16 19:22:10 -0400 (Wed, 16 Oct 2024) EndedAt: 2024-10-16 19:24:16 -0400 (Wed, 16 Oct 2024) EllapsedTime: 125.7 seconds RetCode: 0 Status: OK PackageFile: GeneTonic_2.8.0.tar.gz PackageFileSize: 7.447 MiB