Package: GenomAutomorphism Version: 1.6.0 Command: /Library/Frameworks/R.framework/Resources/bin/R CMD check --install=check:GenomAutomorphism.install-out.txt --library=/Library/Frameworks/R.framework/Resources/library --no-vignettes --timings GenomAutomorphism_1.6.0.tar.gz StartedAt: 2024-10-17 22:40:22 -0400 (Thu, 17 Oct 2024) EndedAt: 2024-10-17 22:47:44 -0400 (Thu, 17 Oct 2024) EllapsedTime: 442.1 seconds RetCode: 1 Status: ERROR CheckDir: GenomAutomorphism.Rcheck Warnings: NA