Package: GenomAutomorphism Version: 1.6.0 Command: /Library/Frameworks/R.framework/Resources/bin/R CMD build --keep-empty-dirs --no-resave-data GenomAutomorphism StartedAt: 2024-06-09 16:45:32 -0400 (Sun, 09 Jun 2024) EndedAt: 2024-06-09 16:47:17 -0400 (Sun, 09 Jun 2024) EllapsedTime: 105.6 seconds RetCode: 0 Status: OK PackageFile: GenomAutomorphism_1.6.0.tar.gz PackageFileSize: 1.262 MiB