Package: GenomAutomorphism Version: 1.6.0 Command: /Library/Frameworks/R.framework/Resources/bin/R CMD INSTALL GenomAutomorphism StartedAt: 2024-06-09 15:43:48 -0400 (Sun, 09 Jun 2024) EndedAt: 2024-06-09 15:44:19 -0400 (Sun, 09 Jun 2024) EllapsedTime: 31.4 seconds RetCode: 0 Status: OK