Package: GenomAutomorphism Version: 1.6.0 Command: chmod a+r GenomAutomorphism -R && F:\biocbuild\bbs-3.19-bioc\R\bin\R.exe CMD build --keep-empty-dirs --no-resave-data GenomAutomorphism StartedAt: 2024-06-26 19:07:02 -0400 (Wed, 26 Jun 2024) EndedAt: 2024-06-26 19:09:06 -0400 (Wed, 26 Jun 2024) EllapsedTime: 123.5 seconds RetCode: 0 Status: OK PackageFile: GenomAutomorphism_1.6.0.tar.gz PackageFileSize: 1.11 MiB