Package: GenomAutomorphism Version: 1.6.0 Command: F:\biocbuild\bbs-3.19-bioc\R\bin\R.exe CMD INSTALL GenomAutomorphism StartedAt: 2024-06-26 16:53:16 -0400 (Wed, 26 Jun 2024) EndedAt: 2024-06-26 16:54:11 -0400 (Wed, 26 Jun 2024) EllapsedTime: 54.8 seconds RetCode: 0 Status: OK