Package: GenomAutomorphism Version: 1.6.0 Command: rm -rf GenomAutomorphism.buildbin-libdir && mkdir GenomAutomorphism.buildbin-libdir && E:\biocbuild\bbs-3.19-bioc\R\bin\R.exe CMD INSTALL --build --library=GenomAutomorphism.buildbin-libdir GenomAutomorphism_1.6.0.tar.gz StartedAt: 2024-10-17 07:51:16 -0400 (Thu, 17 Oct 2024) EndedAt: 2024-10-17 07:53:07 -0400 (Thu, 17 Oct 2024) EllapsedTime: 110.7 seconds RetCode: 0 Status: OK PackageFile: GenomAutomorphism_1.6.0.zip PackageFileSize: 1.741 MiB