Package: GenomicDataCommons Version: 1.28.2 Maintainer: Sean Davis MaintainerEmail: seandavi at gmail.com git_url: https://git.bioconductor.org/packages/GenomicDataCommons git_branch: RELEASE_3_19 git_last_commit: 56bad6b git_last_commit_date: 2024-10-09 14:34:04 -0400 (Wed, 09 Oct 2024)