Package: GenomicDataCommons Version: 1.28.2 Command: /home/biocbuild/bbs-3.19-bioc/R/bin/R CMD build --keep-empty-dirs --no-resave-data GenomicDataCommons StartedAt: 2024-10-16 18:39:02 -0400 (Wed, 16 Oct 2024) EndedAt: 2024-10-16 18:40:11 -0400 (Wed, 16 Oct 2024) EllapsedTime: 68.1 seconds RetCode: 0 Status: OK PackageFile: GenomicDataCommons_1.28.2.tar.gz PackageFileSize: 2.325 MiB