Package: GenomicDataCommons Version: 1.28.2 Command: /home/biocbuild/bbs-3.19-bioc/R/bin/R CMD check --install=check:GenomicDataCommons.install-out.txt --library=/home/biocbuild/bbs-3.19-bioc/R/site-library --timings GenomicDataCommons_1.28.2.tar.gz StartedAt: 2024-10-17 00:45:02 -0400 (Thu, 17 Oct 2024) EndedAt: 2024-10-17 00:47:43 -0400 (Thu, 17 Oct 2024) EllapsedTime: 160.3 seconds RetCode: 0 Status: OK CheckDir: GenomicDataCommons.Rcheck Warnings: 0