Package: GenomicDataCommons Version: 1.28.2 Command: E:\biocbuild\bbs-3.19-bioc\R\bin\R.exe CMD check --no-multiarch --install=check:GenomicDataCommons.install-out.txt --library=E:\biocbuild\bbs-3.19-bioc\R\library --no-vignettes --timings GenomicDataCommons_1.28.2.tar.gz StartedAt: 2024-10-17 01:47:12 -0400 (Thu, 17 Oct 2024) EndedAt: 2024-10-17 01:49:03 -0400 (Thu, 17 Oct 2024) EllapsedTime: 110.8 seconds RetCode: 0 Status: OK CheckDir: GenomicDataCommons.Rcheck Warnings: 0