Package: GenomicFeatures Version: 1.56.0 Command: rm -rf GenomicFeatures.buildbin-libdir && mkdir GenomicFeatures.buildbin-libdir && /Users/biocbuild/BBS/utils/build-universal.sh GenomicFeatures_1.56.0.tar.gz /Library/Frameworks/R.framework/Resources/bin/R GenomicFeatures.buildbin-libdir StartedAt: 2024-10-17 16:14:28 -0400 (Thu, 17 Oct 2024) EndedAt: 2024-10-17 16:15:59 -0400 (Thu, 17 Oct 2024) EllapsedTime: 91.0 seconds RetCode: 0 Status: OK PackageFile: GenomicFeatures_1.56.0.tgz PackageFileSize: 1.354 MiB