Package: GenomicFeatures Version: 1.56.0 Command: E:\biocbuild\bbs-3.19-bioc\R\bin\R.exe CMD INSTALL GenomicFeatures StartedAt: 2024-10-16 16:26:54 -0400 (Wed, 16 Oct 2024) EndedAt: 2024-10-16 16:28:37 -0400 (Wed, 16 Oct 2024) EllapsedTime: 103.0 seconds RetCode: 0 Status: OK